BEGIN:VCALENDAR
VERSION:2.0
PRODID:-//wp-events-plugin.com//6.5//EN
BEGIN:VEVENT
UID:45-9285@colorado.swea.org
DTSTART;TZID=America/Denver:20251118T190000
DTEND;TZID=America/Denver:20251118T203000
DTSTAMP:20251008T173739Z
URL:https://colorado.swea.org/events/the-leadership-we-need-en-kvall-med-m
 aria-brinck/
SUMMARY:"The Leadership We Need" - en kväll med Maria Brinck
DESCRIPTION:\n\n\n\n\n\n\nSWEA Professional Colorado har glädjen att bjuda
  in till en inspirerande kväll där Maria Brinck\, grundare av Zynergy In
 ternational\, presenterar tankarna bakom sin nya bok The Leadership We Ne
 ed.\n\nBoken lyfter fram ett nytt porträtt av ledarskap och utmanar gamla
  idéer - perfekt underlag för både reflektion och diskussion! Läs gär
 na boken i förväg om du vill (https://a.co/d/jeYNGhs) men det är absolu
 t inget måste för att kunna delta i samtalet.\n\nDu kan läsa mera om Ma
 rias tankar i en artikel i Authority Magazine: https://medium.com/authorit
 y-magazine/the-new-portrait-of-leadership-maria-brinck-of-zynergy-internat
 ional-on-which-legacy-ideas-about-bca18c3bea89\n\n\n\n\n\n\n\nOm Maria: M
 aria Brinck är en erfaren ledarskapskonsult och föreläsare med en inter
 nationell bakgrund. Genom sitt företag Zynergy International har hon i m
 ånga år hjälpt organisationer och ledare världen över att utveckla in
 kluderande\, mänskligt och framtidsinriktat ledarskap. Hennes passion är
  att skapa arbetsmiljöer där människor kan växa\, bidra och känna men
 ing.\n\n\n\n\n\n\n\nDet blir en kväll fylld av inspiration\, gemenskap oc
 h spännande samtal - varmt välkommen! Evite har skickats till alla medle
 mmar.\n\n\n\n\n\n\n\n\n\n
ATTACH;FMTTYPE=image/jpeg:https://colorado.swea.org/wp-content/uploads/sit
 es/45/2025/10/SWEA-Pro-CO-Maria-Brinck.png
END:VEVENT
BEGIN:VTIMEZONE
TZID:America/Denver
X-LIC-LOCATION:America/Denver
BEGIN:STANDARD
DTSTART:20251102T010000
TZOFFSETFROM:-0600
TZOFFSETTO:-0700
TZNAME:MST
END:STANDARD
END:VTIMEZONE
END:VCALENDAR